BEGIN:VCALENDAR
VERSION:2.0
PRODID:-//inmocham.org - ECPv6.15.10//NONSGML v1.0//EN
CALSCALE:GREGORIAN
METHOD:PUBLISH
X-ORIGINAL-URL:https://www.inmocham.org
X-WR-CALDESC:Events for inmocham.org
REFRESH-INTERVAL;VALUE=DURATION:PT1H
X-Robots-Tag:noindex
X-PUBLISHED-TTL:PT1H
BEGIN:VTIMEZONE
TZID:Asia/Kolkata
BEGIN:STANDARD
TZOFFSETFROM:+0530
TZOFFSETTO:+0530
TZNAME:IST
DTSTART:20190101T000000
END:STANDARD
END:VTIMEZONE
BEGIN:VTIMEZONE
TZID:Europe/London
BEGIN:DAYLIGHT
TZOFFSETFROM:+0000
TZOFFSETTO:+0100
TZNAME:BST
DTSTART:20190331T010000
END:DAYLIGHT
BEGIN:STANDARD
TZOFFSETFROM:+0100
TZOFFSETTO:+0000
TZNAME:GMT
DTSTART:20191027T010000
END:STANDARD
BEGIN:DAYLIGHT
TZOFFSETFROM:+0000
TZOFFSETTO:+0100
TZNAME:BST
DTSTART:20200329T010000
END:DAYLIGHT
BEGIN:STANDARD
TZOFFSETFROM:+0100
TZOFFSETTO:+0000
TZNAME:GMT
DTSTART:20201025T010000
END:STANDARD
BEGIN:DAYLIGHT
TZOFFSETFROM:+0000
TZOFFSETTO:+0100
TZNAME:BST
DTSTART:20210328T010000
END:DAYLIGHT
BEGIN:STANDARD
TZOFFSETFROM:+0100
TZOFFSETTO:+0000
TZNAME:GMT
DTSTART:20211031T010000
END:STANDARD
END:VTIMEZONE
BEGIN:VTIMEZONE
TZID:Asia/Kolkata
BEGIN:STANDARD
TZOFFSETFROM:+0530
TZOFFSETTO:+0530
TZNAME:IST
DTSTART:20170101T000000
END:STANDARD
END:VTIMEZONE
BEGIN:VEVENT
DTSTART;VALUE=DATE:20200709
DTEND;VALUE=DATE:20200710
DTSTAMP:20260423T192913
CREATED:20200703T121447Z
LAST-MODIFIED:20200703T124522Z
UID:12278-1594252800-1594339199@www.inmocham.org
SUMMARY:Invest India Exclusive Investment Forum: Retail and Sourcing Edition
DESCRIPTION:Dear IMCCI Members & Business Associates\, \nWe are delighted to welcome you to the very special by-invitation only\, Invest India Exclusive Investment Forum: Retail and Sourcing Edition.  \nAs the National Investment Promotion & Facilitation Agency of the Government of India\, Invest India has designed this unique forum to conduct detailed conversations between global industry leaders and key decision makers from the highest levels of the Union and State Governments of India. We welcome you to be part of these deliberations on India’s economic growth and business prospects with select leaders from the government and industry. Further\, we would also encourage you to invite on our behalf any company you feel would benefit by attending this session. \nAs India reopens for business\, the Central and States governments are making strong policy decisions to help investors take advantage of growth opportunities in the country. Critical aspects for investment & sourcing decisions ranging from policy incentives & reforms\, infrastructure capabilities\, the key clusters available to special investor facilitation services would be provided directly at the forum by the senior-most government officials. \nThe Invest India Exclusive Investment Forum on the Retail  & E-Commerce sector will be held in two series on the 9th July 2020 and on the 14th July 2020 with the following pattern of participating States. If you are unable to attend both days\, we would encourage you to invite your colleagues also. \n15:00 PM to 17:00 PM IST on Thursday\, 9th July 2020  \n·         Odisha \n·         Haryana \n·         Punjab \n·         Delhi \n·         Rajasthan \n·         Uttar Pradesh \n18:30PM – 20:30 PM IST on Tuesday\, 14th July 2020  \n·         Tamil Nadu \n·         Karnataka \n·         Gujarat \n·         Maharashtra \n·         Kerala \n·         Telangana \nThe Agenda and Registration Link for the Forum can be found on the link below: \nhttps://www.investindia.gov.in/eif/retail-and-sourcing-edition/registration \nWe look forward to welcoming you to the forum and request you to confirm your participation by using the Registration Link at the earliest possible and to confirm your participation to: eoi.rabat@mea.gov.in and/or through phone to: 06 76 50 77 60\, due to limited capacity on the platform. Further\, we would welcome your support in inviting Moroccan companies engaged in Retail & E-Commerce sector to be a part of these investment focused sector-specific State webinar series as well. \nPlease do block your diary and join us on Thursday\, 9th July 2020 and on Tuesday\, 14th July 2020.
URL:https://www.inmocham.org/event/investment-forum-retail-and-sourcing/
CATEGORIES:Invest India
ATTACH;FMTTYPE=image/png:https://www.inmocham.org/wp-content/uploads/2020/07/webinar-1_1.png
ORGANIZER;CN="Invest India":MAILTO:contact@investindia.org.in
END:VEVENT
BEGIN:VEVENT
DTSTART;TZID=Asia/Kolkata:20200706T080000
DTEND;TZID=Asia/Kolkata:20200706T170000
DTSTAMP:20260423T192913
CREATED:20200703T095828Z
LAST-MODIFIED:20200703T100548Z
UID:12272-1594022400-1594054800@www.inmocham.org
SUMMARY:Invest India Exclusive Investment Forum: Textiles and Apparel Edition
DESCRIPTION:Dear IMCCI Members & Business Associates\, \nThe IMCCI is delighted to welcome you to the very special by-invitation only\, Invest India Exclusive Investment Forum: Textiles and Apparel Edition. \nAs the National Investment Promotion & Facilitation Agency of the Government of India\, Invest India has designed this unique forum to conduct detailed conversations between global industry leaders and key decision makers from the highest levels of the Union and State Governments of India. We welcome you to be part of these deliberations on India’s economic growth and business prospects with select leaders from the government and industry. Further\, we would also encourage you to invite on our behalf any company you feel would benefit by attending this session. \nAs India reopens for business\, the Central and States governments are making strong policy decisions to help investors take advantage of growth opportunities in the country. Critical aspects for investment & sourcing decisions ranging from policy incentives & reforms\, infrastructure capabilities\, the key clusters available to special investor facilitation services would be provided directly at the forum by the senior-most government officials. \nThe Invest India Exclusive Investment Forum on the Textile & Apparel sector will be held in two series on the 6th July 2020 and on the 10th July 2020 with the following pattern of participating States. If you are unable to attend both days\, we would encourage you to invite your colleagues also. \n  14:00 PM to 16:00 PM IST on Monday\, 6th July 2020  \n·         Assam \n·         Gujarat \n·         Madhya Pradesh \n·         Maharashtra \n·         Rajasthan \n·         Telangana \n  \n14:00PM – 16:00 PM IST on Friday\, 10th July 2020  \n·         Andhra Pradesh \n·         Jharkhand \n·         Karnataka \n·         Odisha \n·         Punjab \n·         Tamil Nadu \nThe Agenda and Registration Link for the Forum are attached to this invitation. \nhttps://www.investindia.gov.in/eif/textiles-sector-edition/registration \nWeInvest India has designed this unique forum to conduct detailed conversations between global industry leaders and key decision makers from the highest levels of the Union and State Governments of India. We welcome you to be part of these deliberations on India’s economic growth and business prospects with select leaders from the government and industry. Further\, we would also encourage you to invite on our behalf any company you feel would benefit by attending this sessionInvest India has designed this unique forum to conduct detailed conversations between global industry leaders and key decision makers from the highest levels of the Union and State Governments of India. We welcome you to be part of these deliberations on India’s economic growth and business prospects with select leaders from the government and industry. Further\, we would also encourage you to invite on our behalf any company you feel would benefit by attending this session.Invest India has designed this unique forum to conduct detailed conversations between global industry leaders and key decision makers from the highest levels of the Union and State Governments of India. We welcome you to be part of these deliberations on India’s economic growth and business prospects with select leaders from the government and industry. Further\, we would also encourage you to invite on our behalf any company you feel would benefit by attending this session.Invest India has designed this unique forum to conduct detailed conversations between global industry leaders and key decision makers from the highest levels of the Union and State Governments of India. We welcome you to be part of these deliberations on India’s economic growth and business prospects with select leaders from the government and industry. Further\, we would also encourage you to invite on our behalf any company you feel would benefit by attending this sessInvest India has designed this unique forum to conduct detailed conversations between global industry leaders and key decision makers from the highest levels of the Union and State Governments of India. We welcome you to be part of these deliberations on India’s economic growth and business prospects with select leaders from the government and industry. Further\, we would also encourage you to invite on our behalf any company you feel would benefit by attending this session. look forward to welcoming you to the forum and request you to confirm your participation by using the Registration Link at the earliest possible due to limited capacity on the platform. Further\, we would welcome your support in inviting other Moroccan companies engaged in Textiles & Apparel sector to be a part of these investment focused sector-specific State webinar series as well. \nPlease do block your diary and join us on Monday\, 6th July 2020 and on Friday\, 10th July 2020.
URL:https://www.inmocham.org/event/investment-forum-textiles-and-apparel-2020/
CATEGORIES:Invest India
ATTACH;FMTTYPE=image/jpeg:https://www.inmocham.org/wp-content/uploads/2020/07/InvestIndia_TextileApparelSectorEdition_Banner.jpg
ORGANIZER;CN="Invest India":MAILTO:contact@investindia.org.in
END:VEVENT
BEGIN:VEVENT
DTSTART;TZID=Europe/London:20200314T173000
DTEND;TZID=Europe/London:20200314T190000
DTSTAMP:20260423T192913
CREATED:20200302T040952Z
LAST-MODIFIED:20200302T180813Z
UID:12236-1584207000-1584212400@www.inmocham.org
SUMMARY:Conférence : Santé de la Femme
DESCRIPTION:La beauté commence de l’intérieur. Dans cette conférence\, vous apprendrez comment réduire l’effet du stress avec  les techniques simples de massage à l’huile comme l’Abhyanga que vous pouvez appliquer chez vous tous les jours.
URL:https://www.inmocham.org/event/conference-sante-de-la-femme/
LOCATION:ONOMO Hotel Casablanca City Center\, ONOMO Hotel Casablanca City Center\, 25 Boulevard Al Massira Al Khadra\, Casablanca\, Grand Casablanca\, 20250\, Morocco
CATEGORIES:Moroccan Ayurveda Week
END:VEVENT
BEGIN:VEVENT
DTSTART;TZID=Europe/London:20200314T150000
DTEND;TZID=Europe/London:20200314T170000
DTSTAMP:20260423T192913
CREATED:20200302T040622Z
LAST-MODIFIED:20200302T163824Z
UID:12234-1584198000-1584205200@www.inmocham.org
SUMMARY:Atelier: Jivananda
DESCRIPTION:Comme il est nécessaire de charger le téléphone tous les jours pour qu’il fonctionne parfaitement\, de même\, il est nécessaire que nous\, humains\, nous chargions quotidiennement notre esprit\, notre corps et notre âme. Le Dr Chauhan vous exposera un programme conçu pour vous accompagner à dynamiser votre corps et votre esprit.
URL:https://www.inmocham.org/event/atelier-jivananda/
LOCATION:ONOMO Hotel Casablanca City Center\, ONOMO Hotel Casablanca City Center\, 25 Boulevard Al Massira Al Khadra\, Casablanca\, Grand Casablanca\, 20250\, Morocco
CATEGORIES:Moroccan Ayurveda Week
END:VEVENT
BEGIN:VEVENT
DTSTART;TZID=Europe/London:20200314T140000
DTEND;TZID=Europe/London:20200314T150000
DTSTAMP:20260423T192913
CREATED:20200302T035714Z
LAST-MODIFIED:20200302T035714Z
UID:12231-1584194400-1584198000@www.inmocham.org
SUMMARY:Atelier : L'élimination de douleur avec l'Ayurveda
DESCRIPTION:
URL:https://www.inmocham.org/event/atelier-lelimination-de-douleur-avec-layurveda/
LOCATION:Lillya Ayurveda\, Casablanca\, Lillya Ayurveda Center Morocco\, 394 Boulevard Mohamed Zerktouni\, Casablanca\, 20250
CATEGORIES:Moroccan Ayurveda Week
END:VEVENT
BEGIN:VEVENT
DTSTART;TZID=Europe/London:20200314T113000
DTEND;TZID=Europe/London:20200314T130000
DTSTAMP:20260423T192913
CREATED:20200302T035201Z
LAST-MODIFIED:20200302T035201Z
UID:12229-1584185400-1584190800@www.inmocham.org
SUMMARY:Conférence : Women's Shakti\, La Puissance du Féminin
DESCRIPTION:
URL:https://www.inmocham.org/event/conference-womens-shakti-la-puissance-du-feminin/
LOCATION:ONOMO Hotel Casablanca City Center\, ONOMO Hotel Casablanca City Center\, 25 Boulevard Al Massira Al Khadra\, Casablanca\, Grand Casablanca\, 20250\, Morocco
CATEGORIES:Moroccan Ayurveda Week
END:VEVENT
BEGIN:VEVENT
DTSTART;TZID=Europe/London:20200314T090000
DTEND;TZID=Europe/London:20200314T100000
DTSTAMP:20260423T192913
CREATED:20200302T034055Z
LAST-MODIFIED:20200302T034055Z
UID:12225-1584176400-1584180000@www.inmocham.org
SUMMARY:Atelier : Yoga au Féminin
DESCRIPTION:
URL:https://www.inmocham.org/event/atelier-yoga-au-feminin/
LOCATION:ONOMO Hotel Casablanca City Center\, ONOMO Hotel Casablanca City Center\, 25 Boulevard Al Massira Al Khadra\, Casablanca\, Grand Casablanca\, 20250\, Morocco
CATEGORIES:Moroccan Ayurveda Week
END:VEVENT
BEGIN:VEVENT
DTSTART;TZID=Europe/London:20200313T190000
DTEND;TZID=Europe/London:20200313T203000
DTSTAMP:20260423T192913
CREATED:20200302T033022Z
LAST-MODIFIED:20200302T033022Z
UID:12223-1584126000-1584131400@www.inmocham.org
SUMMARY:Conférence : Management des troubles de vie
DESCRIPTION:
URL:https://www.inmocham.org/event/conference-management-des-troubles-de-vie/
LOCATION:ONOMO Hotel Casablanca City Center\, ONOMO Hotel Casablanca City Center\, 25 Boulevard Al Massira Al Khadra\, Casablanca\, Grand Casablanca\, 20250\, Morocco
CATEGORIES:Moroccan Ayurveda Week
END:VEVENT
BEGIN:VEVENT
DTSTART;TZID=Europe/London:20200313T160000
DTEND;TZID=Europe/London:20200313T173000
DTSTAMP:20260423T192913
CREATED:20200302T032612Z
LAST-MODIFIED:20200302T032612Z
UID:12220-1584115200-1584120600@www.inmocham.org
SUMMARY:Conférence: AyurCorp\, Santé et bien être au travail et productivité en entreprise
DESCRIPTION:
URL:https://www.inmocham.org/event/conference-ayurcorp-sante-et-bien-etre-au-travail-et-productivite-en-entreprise/
LOCATION:HEM Casablanca\, Institute of Advanced Management Studies\, Boulevard Al Qods\, Casablanca\, 20100
CATEGORIES:Moroccan Ayurveda Week
END:VEVENT
BEGIN:VEVENT
DTSTART;TZID=Europe/London:20200313T113000
DTEND;TZID=Europe/London:20200313T150000
DTSTAMP:20260423T192913
CREATED:20200302T030646Z
LAST-MODIFIED:20200302T030646Z
UID:12216-1584099000-1584111600@www.inmocham.org
SUMMARY:Consultations Ayurvédiques
DESCRIPTION:La consultation ayurvédique ou bilan ayurvédique : L’objectif d’un bilan ayurvédique est dans un premier temps de déterminer la constitution natale\, puis l’état de déséquilibre\, afin d’en trouver les causes. Le praticien en Ayurveda est un véritable Educateur de Santé dont l’objectif n’est pas de soulager des symptômes mais surtout d’identifier les raisons qui ont amené les déséquilibres\, dans le but de les corriger pour agir durablement et en profondeur sur l’harmonie et l’équilibre du corps.
URL:https://www.inmocham.org/event/consultations-ayurvediques/
LOCATION:Koram Harmony\, Casablanca\, 56 Angle Boulevard Ghandi et Rue Al Menara\, Casablanca\, 20250\, Morocco
CATEGORIES:Moroccan Ayurveda Week
END:VEVENT
BEGIN:VEVENT
DTSTART;TZID=Europe/London:20200313T110000
DTEND;TZID=Europe/London:20200313T150000
DTSTAMP:20260423T192913
CREATED:20200302T023322Z
LAST-MODIFIED:20200302T025941Z
UID:12209-1584097200-1584111600@www.inmocham.org
SUMMARY:Consultations Ayurvédiques
DESCRIPTION:La consultation ayurvédique ou bilan ayurvédique : L’objectif d’un bilan ayurvédique est dans un premier temps de déterminer la constitution natale\, puis l’état de déséquilibre\, afin d’en trouver les causes. Le praticien en Ayurveda est un véritable Educateur de Santé dont l’objectif n’est pas de soulager des symptômes mais surtout d’identifier les raisons qui ont amené les déséquilibres\, dans le but de les corriger pour agir durablement et en profondeur sur l’harmonie et l’équilibre du corps.
URL:https://www.inmocham.org/event/consultations-ayurvedique/
LOCATION:OM Yoga Anfa\, Casablanca\, OM Yoga\, 2 Rue Du Golfe Du Comores\, Casablanca\, 20100\, Morocco
CATEGORIES:Moroccan Ayurveda Week
END:VEVENT
BEGIN:VEVENT
DTSTART;TZID=Europe/London:20200313T110000
DTEND;TZID=Europe/London:20200313T123000
DTSTAMP:20260423T192913
CREATED:20200302T031037Z
LAST-MODIFIED:20200302T031037Z
UID:12218-1584097200-1584102600@www.inmocham.org
SUMMARY:Atelier : Yoga prénatal
DESCRIPTION:
URL:https://www.inmocham.org/event/atelier-yoga-prenatal/
LOCATION:Koram Harmony\, Casablanca\, 56 Angle Boulevard Ghandi et Rue Al Menara\, Casablanca\, 20250\, Morocco
CATEGORIES:Moroccan Ayurveda Week
END:VEVENT
BEGIN:VEVENT
DTSTART;TZID=Europe/London:20200313T090000
DTEND;TZID=Europe/London:20200313T110000
DTSTAMP:20260423T192913
CREATED:20200302T025512Z
LAST-MODIFIED:20200302T025835Z
UID:12213-1584090000-1584097200@www.inmocham.org
SUMMARY:Atelier : Ayurbaby\, l’art de bien concevoir son bébé
DESCRIPTION:RDV le 13 mars pour tout savoir sur la pré-conception\, conception d’un enfant\, la grossesse\, la naissance\, les soins à la maman et au bébé selon l’Ayurveda. Tout un programme pour les femmes et pour les hommes aussi!
URL:https://www.inmocham.org/event/atelier-ayurbaby-lart-de-bien-concevoir-son-bebe/
LOCATION:Koram Harmony\, Casablanca\, 56 Angle Boulevard Ghandi et Rue Al Menara\, Casablanca\, 20250\, Morocco
CATEGORIES:Moroccan Ayurveda Week
END:VEVENT
BEGIN:VEVENT
DTSTART;TZID=Europe/London:20200313T090000
DTEND;TZID=Europe/London:20200313T110000
DTSTAMP:20260423T192913
CREATED:20200302T022746Z
LAST-MODIFIED:20200302T030042Z
UID:12206-1584090000-1584097200@www.inmocham.org
SUMMARY:Atelier : Ayurveda et Yoga
DESCRIPTION:Le yoga n’est pas seulement constitué d asanas et de postures. La conférence établira les 7 autres aspects du Yoga. Vous apprendrez comment atteindre un bien-être physique holistique avec l’Ayurveda et le Yoga.
URL:https://www.inmocham.org/event/atelier-ayurveda-et-yoga/
LOCATION:OM Yoga Anfa\, Casablanca\, OM Yoga\, 2 Rue Du Golfe Du Comores\, Casablanca\, 20100\, Morocco
CATEGORIES:Moroccan Ayurveda Week
END:VEVENT
BEGIN:VEVENT
DTSTART;TZID=Europe/London:20200312T190000
DTEND;TZID=Europe/London:20200312T203000
DTSTAMP:20260423T192913
CREATED:20200302T015751Z
LAST-MODIFIED:20200302T020646Z
UID:12203-1584039600-1584045000@www.inmocham.org
SUMMARY:Conférence : L'ayurvéda au quotidien
DESCRIPTION:Vous manquez de temps pour vous occuper de vous-même ? Pas de problème. La médecine indienne ancestrale propose de courts rituels à faire matin et soir pour retrouver l’équilibre et booster votre santé.
URL:https://www.inmocham.org/event/conference-layurveda-au-quotidien/
LOCATION:ONOMO Hotel Casablanca City Center\, ONOMO Hotel Casablanca City Center\, 25 Boulevard Al Massira Al Khadra\, Casablanca\, Grand Casablanca\, 20250\, Morocco
CATEGORIES:Moroccan Ayurveda Week
END:VEVENT
BEGIN:VEVENT
DTSTART;TZID=Europe/London:20200312T090000
DTEND;TZID=Europe/London:20200312T223000
DTSTAMP:20260423T192913
CREATED:20200302T002402Z
LAST-MODIFIED:20200302T030105Z
UID:12193-1584003600-1584052200@www.inmocham.org
SUMMARY:Atelier : Détoxification\, rajeunissement\, longévité
DESCRIPTION:La détoxificationest primordiale selon l’ayurveda pour chasser « ama »\, la « masse toxique » du corps\, à l’origine des maladies.\nBien loin d’un effet de mode\, les techniques d’élimination de toxines y sont donc très employées pour soigner mais aussi en prévention\, pour améliorer la longévité.
URL:https://www.inmocham.org/event/atelier-detoxification-rajeunissement-longevite/
LOCATION:Koram Harmony\, Casablanca\, 56 Angle Boulevard Ghandi et Rue Al Menara\, Casablanca\, 20250\, Morocco
CATEGORIES:Moroccan Ayurveda Week
END:VEVENT
BEGIN:VEVENT
DTSTART;TZID=Europe/London:20200312T090000
DTEND;TZID=Europe/London:20200312T123000
DTSTAMP:20260423T192913
CREATED:20200302T003714Z
LAST-MODIFIED:20200302T030149Z
UID:12199-1584003600-1584016200@www.inmocham.org
SUMMARY:Consultations Ayurvédiques
DESCRIPTION:La consultation ayurvédique ou bilan ayurvédique :\nL’objectif d’un bilan ayurvédique est dans un premier temps de déterminer la constitution natale\, puis l’état de déséquilibre\, afin d’en trouver les causes.\nLe praticien en Ayurveda est un véritable Educateur de Santé dont l’objectif n’est pas de soulager des symptômes mais surtout d’identifier les raisons qui ont amené les déséquilibres\, dans le but de les corriger pour agir durablement et en profondeur sur l’harmonie et l’équilibre du corps.
URL:https://www.inmocham.org/event/consultation-ayurvedique/
LOCATION:Koram Harmony\, Casablanca\, 56 Angle Boulevard Ghandi et Rue Al Menara\, Casablanca\, 20250\, Morocco
CATEGORIES:Moroccan Ayurveda Week
END:VEVENT
BEGIN:VEVENT
DTSTART;TZID=Europe/London:20200302T100000
DTEND;TZID=Europe/London:20200302T110000
DTSTAMP:20260423T192913
CREATED:20200302T034348Z
LAST-MODIFIED:20200302T034348Z
UID:12227-1583143200-1583146800@www.inmocham.org
SUMMARY:Conférence : Comment prendre les bonnes décisions?
DESCRIPTION:Chaque jour\, nous prenons des décisions qui influencent directement ou indirectement nos projets\, notre santé et notre bien-être. Souvent\, la recherche d une satisfaction rapide nous fait prendre les mauvaises décisions\, ce qui nous affecte à long terme. Dans cette conférence\, vous découvrirez des moyens simples pour améliorer votre intellect et prendre les meilleures décisions qui vous guideront vers une vie épanouie.
URL:https://www.inmocham.org/event/conference-comment-prendre-les-bonnes-decisions/
LOCATION:ONOMO Hotel Casablanca City Center\, ONOMO Hotel Casablanca City Center\, 25 Boulevard Al Massira Al Khadra\, Casablanca\, Grand Casablanca\, 20250\, Morocco
CATEGORIES:Moroccan Ayurveda Week
END:VEVENT
BEGIN:VEVENT
DTSTART;VALUE=DATE:20181014
DTEND;VALUE=DATE:20181019
DTSTAMP:20260423T192913
CREATED:20181007T180655Z
LAST-MODIFIED:20181007T182819Z
UID:12154-1539475200-1539907199@www.inmocham.org
SUMMARY:IHGF Delhi Fair - Autumn 2018
DESCRIPTION:IHGF is amongst Asia’s largest gifts & handicrafts fair\, held biannually (Spring & Autumn edition) and is organised by Export Promotion Council for Handicrafts (EPCH).
URL:https://www.inmocham.org/event/ihgf-delhi-fair-autumn-2018/
LOCATION:India Expo Centre & Mart\, India Expo Centre & Mart\, Greater Noida Expressway\, Delhi\, India
ATTACH;FMTTYPE=image/jpeg:https://www.inmocham.org/wp-content/uploads/2018/10/DelhiFairAutumn2018-Feature.jpg
END:VEVENT
END:VCALENDAR